BEGIN:VCALENDAR
VERSION:2.0
PRODID:-//North West Blood Bikes - ECPv6.15.18//NONSGML v1.0//EN
CALSCALE:GREGORIAN
METHOD:PUBLISH
X-ORIGINAL-URL:https://nwbb-lancs.org
X-WR-CALDESC:Events for North West Blood Bikes
REFRESH-INTERVAL;VALUE=DURATION:PT1H
X-Robots-Tag:noindex
X-PUBLISHED-TTL:PT1H
BEGIN:VTIMEZONE
TZID:Europe/London
BEGIN:DAYLIGHT
TZOFFSETFROM:+0000
TZOFFSETTO:+0100
TZNAME:BST
DTSTART:20250330T010000
END:DAYLIGHT
BEGIN:STANDARD
TZOFFSETFROM:+0100
TZOFFSETTO:+0000
TZNAME:GMT
DTSTART:20251026T010000
END:STANDARD
BEGIN:DAYLIGHT
TZOFFSETFROM:+0000
TZOFFSETTO:+0100
TZNAME:BST
DTSTART:20260329T010000
END:DAYLIGHT
BEGIN:STANDARD
TZOFFSETFROM:+0100
TZOFFSETTO:+0000
TZNAME:GMT
DTSTART:20261025T010000
END:STANDARD
BEGIN:DAYLIGHT
TZOFFSETFROM:+0000
TZOFFSETTO:+0100
TZNAME:BST
DTSTART:20270328T010000
END:DAYLIGHT
BEGIN:STANDARD
TZOFFSETFROM:+0100
TZOFFSETTO:+0000
TZNAME:GMT
DTSTART:20271031T010000
END:STANDARD
END:VTIMEZONE
BEGIN:VEVENT
DTSTART;TZID=Europe/London:20260306T150000
DTEND;TZID=Europe/London:20260306T170000
DTSTAMP:20260421T070931
CREATED:20260216T122452Z
LAST-MODIFIED:20260216T122452Z
UID:3526-1772809200-1772816400@nwbb-lancs.org
SUMMARY:New bloodbike hand over
DESCRIPTION:
URL:https://nwbb-lancs.org/event/new-bloodbike-hand-over/
LOCATION:Westhoughton Masonic Hal\, Peel Terrace\, Westhoughton\,\, BL5 3SP\, United Kingdom
CATEGORIES:Show
END:VEVENT
BEGIN:VEVENT
DTSTART;TZID=Europe/London:20260308T073000
DTEND;TZID=Europe/London:20260308T160000
DTSTAMP:20260421T070931
CREATED:20260304T164608Z
LAST-MODIFIED:20260304T164608Z
UID:3587-1772955000-1772985600@nwbb-lancs.org
SUMMARY:Blood Bike fundraising
DESCRIPTION:
URL:https://nwbb-lancs.org/event/blood-bike-fundraising/
LOCATION:Blood Bike fundraising\, Hesketh Park\, southport\, PR9 9JN.\, United Kingdom
CATEGORIES:Collection and Awareness Day
END:VEVENT
BEGIN:VEVENT
DTSTART;TZID=Europe/London:20260311T193000
DTEND;TZID=Europe/London:20260311T203000
DTSTAMP:20260421T070931
CREATED:20251028T090634Z
LAST-MODIFIED:20251028T090634Z
UID:3131-1773257400-1773261000@nwbb-lancs.org
SUMMARY:Brigsteer WI
DESCRIPTION:
URL:https://nwbb-lancs.org/event/brigsteer-wi/
LOCATION:Brigsteer Village Hall\, Brigsteer Village Hall\, Brigsteer\, LA8 8AL
CATEGORIES:Talk
END:VEVENT
BEGIN:VEVENT
DTSTART;TZID=Europe/London:20260312T123000
DTEND;TZID=Europe/London:20260312T143000
DTSTAMP:20260421T070931
CREATED:20260203T194020Z
LAST-MODIFIED:20260203T194020Z
UID:3488-1773318600-1773325800@nwbb-lancs.org
SUMMARY:Over 55s Club
DESCRIPTION:
URL:https://nwbb-lancs.org/event/over-55s-club/
LOCATION:The Centre @ Halton\, Low Road\, LA2 6NB\, United Kingdom
CATEGORIES:Talk
END:VEVENT
BEGIN:VEVENT
DTSTART;TZID=Europe/London:20260316T180000
DTEND;TZID=Europe/London:20260316T220000
DTSTAMP:20260421T070931
CREATED:20260211T161428Z
LAST-MODIFIED:20260211T161428Z
UID:3512-1773684000-1773698400@nwbb-lancs.org
SUMMARY:AREA 51 BIKE NIGHT
DESCRIPTION:Awareness and Fundraising Night.  Come for a Chat and enjoy a slice of Pizza and a Hot Drink for £2
URL:https://nwbb-lancs.org/event/area-51-bike-night-3/
LOCATION:Area 51\, Soutjport Rd.\, Scarisbrick\, Ormskirk L40 8HF\, Southport Road\, Scarisbrick\, Ormskirk\, L40 8HF\, United Kingdom
CATEGORIES:Collection and Awareness Day
END:VEVENT
BEGIN:VEVENT
DTSTART;TZID=Europe/London:20260317T190000
DTEND;TZID=Europe/London:20260317T210000
DTSTAMP:20260421T070931
CREATED:20251212T140205Z
LAST-MODIFIED:20251212T140251Z
UID:3371-1773774000-1773781200@nwbb-lancs.org
SUMMARY:FRECKLETON OVER 60'S GROUP
DESCRIPTION:Talk
URL:https://nwbb-lancs.org/event/freckleton-over-60s-group/
LOCATION:Freckleton Village Hall\, 17 School Lane\, Freckleton\, PR4 1PJ\, United Kingdom
CATEGORIES:Talk
END:VEVENT
BEGIN:VEVENT
DTSTART;VALUE=DATE:20260328
DTEND;VALUE=DATE:20260329
DTSTAMP:20260421T070931
CREATED:20260318T154407Z
LAST-MODIFIED:20260318T154407Z
UID:3630-1774656000-1774742399@nwbb-lancs.org
SUMMARY:Tesco Southport
DESCRIPTION:
URL:https://nwbb-lancs.org/event/tesco-southport-2/
LOCATION:Tesco Southport\, Town Lane Kew\, southport\, PR8 5JH\, United Kingdom
CATEGORIES:Collection and Awareness Day
END:VEVENT
BEGIN:VEVENT
DTSTART;TZID=Europe/London:20260328T093000
DTEND;TZID=Europe/London:20260328T150000
DTSTAMP:20260421T070931
CREATED:20260228T150024Z
LAST-MODIFIED:20260228T150024Z
UID:3582-1774690200-1774710000@nwbb-lancs.org
SUMMARY:Accrington ASDA
DESCRIPTION:
URL:https://nwbb-lancs.org/event/accrington-asda/
LOCATION:Accrington ASDA\, Hyndburn Rd\,\, Accrington\, BB5 1PY\, United Kingdom
CATEGORIES:Collection and Awareness Day
END:VEVENT
BEGIN:VEVENT
DTSTART;VALUE=DATE:20260329
DTEND;VALUE=DATE:20260330
DTSTAMP:20260421T070931
CREATED:20260318T154500Z
LAST-MODIFIED:20260318T154508Z
UID:3633-1774742400-1774828799@nwbb-lancs.org
SUMMARY:Tesco Southport
DESCRIPTION:
URL:https://nwbb-lancs.org/event/tesco-southport-3/
LOCATION:Tesco Southport\, Town Lane Kew\, southport\, PR8 5JH\, United Kingdom
CATEGORIES:Collection and Awareness Day
END:VEVENT
END:VCALENDAR