BEGIN:VCALENDAR
VERSION:2.0
PRODID:-//North West Blood Bikes - ECPv6.15.18//NONSGML v1.0//EN
CALSCALE:GREGORIAN
METHOD:PUBLISH
X-WR-CALNAME:North West Blood Bikes
X-ORIGINAL-URL:https://nwbb-lancs.org
X-WR-CALDESC:Events for North West Blood Bikes
REFRESH-INTERVAL;VALUE=DURATION:PT1H
X-Robots-Tag:noindex
X-PUBLISHED-TTL:PT1H
BEGIN:VTIMEZONE
TZID:Europe/London
BEGIN:DAYLIGHT
TZOFFSETFROM:+0000
TZOFFSETTO:+0100
TZNAME:BST
DTSTART:20240331T010000
END:DAYLIGHT
BEGIN:STANDARD
TZOFFSETFROM:+0100
TZOFFSETTO:+0000
TZNAME:GMT
DTSTART:20241027T010000
END:STANDARD
BEGIN:DAYLIGHT
TZOFFSETFROM:+0000
TZOFFSETTO:+0100
TZNAME:BST
DTSTART:20250330T010000
END:DAYLIGHT
BEGIN:STANDARD
TZOFFSETFROM:+0100
TZOFFSETTO:+0000
TZNAME:GMT
DTSTART:20251026T010000
END:STANDARD
BEGIN:DAYLIGHT
TZOFFSETFROM:+0000
TZOFFSETTO:+0100
TZNAME:BST
DTSTART:20260329T010000
END:DAYLIGHT
BEGIN:STANDARD
TZOFFSETFROM:+0100
TZOFFSETTO:+0000
TZNAME:GMT
DTSTART:20261025T010000
END:STANDARD
END:VTIMEZONE
BEGIN:VEVENT
DTSTART;TZID=Europe/London:20250204T190000
DTEND;TZID=Europe/London:20250204T210000
DTSTAMP:20260422T103904
CREATED:20250128T084232Z
LAST-MODIFIED:20250128T084232Z
UID:2831-1738695600-1738702800@nwbb-lancs.org
SUMMARY:Barbon Womens' Institute
DESCRIPTION:
URL:https://nwbb-lancs.org/event/barbon-womens-institute/
LOCATION:Barbon Womens’ Institute\, Barbon Village Hall\, Barbon New Road\, Kirkby Lonsdale\, LA6 2LL\, United Kingdom
CATEGORIES:Talk
END:VEVENT
BEGIN:VEVENT
DTSTART;TZID=Europe/London:20250202T130000
DTEND;TZID=Europe/London:20250202T170000
DTSTAMP:20260422T103904
CREATED:20250128T102502Z
LAST-MODIFIED:20250128T102502Z
UID:2839-1738501200-1738515600@nwbb-lancs.org
SUMMARY:Whittle-le-Woods Methodist Church
DESCRIPTION:
URL:https://nwbb-lancs.org/event/whittle-le-woods-methodist-church/
LOCATION:Church Hall\, Church Hall\, The Square\, Whittle-le-Woods\, PR6 7LF
CATEGORIES:Talk
END:VEVENT
END:VCALENDAR