BEGIN:VCALENDAR
VERSION:2.0
PRODID:-//North West Blood Bikes - ECPv6.15.18//NONSGML v1.0//EN
CALSCALE:GREGORIAN
METHOD:PUBLISH
X-WR-CALNAME:North West Blood Bikes
X-ORIGINAL-URL:https://nwbb-lancs.org
X-WR-CALDESC:Events for North West Blood Bikes
REFRESH-INTERVAL;VALUE=DURATION:PT1H
X-Robots-Tag:noindex
X-PUBLISHED-TTL:PT1H
BEGIN:VTIMEZONE
TZID:Europe/London
BEGIN:DAYLIGHT
TZOFFSETFROM:+0000
TZOFFSETTO:+0100
TZNAME:BST
DTSTART:20250330T010000
END:DAYLIGHT
BEGIN:STANDARD
TZOFFSETFROM:+0100
TZOFFSETTO:+0000
TZNAME:GMT
DTSTART:20251026T010000
END:STANDARD
BEGIN:DAYLIGHT
TZOFFSETFROM:+0000
TZOFFSETTO:+0100
TZNAME:BST
DTSTART:20260329T010000
END:DAYLIGHT
BEGIN:STANDARD
TZOFFSETFROM:+0100
TZOFFSETTO:+0000
TZNAME:GMT
DTSTART:20261025T010000
END:STANDARD
BEGIN:DAYLIGHT
TZOFFSETFROM:+0000
TZOFFSETTO:+0100
TZNAME:BST
DTSTART:20270328T010000
END:DAYLIGHT
BEGIN:STANDARD
TZOFFSETFROM:+0100
TZOFFSETTO:+0000
TZNAME:GMT
DTSTART:20271031T010000
END:STANDARD
BEGIN:DAYLIGHT
TZOFFSETFROM:+0000
TZOFFSETTO:+0100
TZNAME:BST
DTSTART:20280326T010000
END:DAYLIGHT
BEGIN:STANDARD
TZOFFSETFROM:+0100
TZOFFSETTO:+0000
TZNAME:GMT
DTSTART:20281029T010000
END:STANDARD
END:VTIMEZONE
BEGIN:VEVENT
DTSTART;TZID=Europe/London:20260809T090000
DTEND;TZID=Europe/London:20260809T170000
DTSTAMP:20260421T064817
CREATED:20260320T154016Z
LAST-MODIFIED:20260320T154016Z
UID:3644-1786266000-1786294800@nwbb-lancs.org
SUMMARY:festival of the sea
DESCRIPTION:
URL:https://nwbb-lancs.org/event/festival-of-the-sea-2/
LOCATION:festival of the sea\, quayside by morrisons supermarket\, barrow in furness\, la14 2hf\, United Kingdom
CATEGORIES:Collection and Awareness Day
END:VEVENT
BEGIN:VEVENT
DTSTART;TZID=Europe/London:20260905T100000
DTEND;TZID=Europe/London:20260905T160000
DTSTAMP:20260421T064817
CREATED:20260205T183449Z
LAST-MODIFIED:20260205T183449Z
UID:3493-1788602400-1788624000@nwbb-lancs.org
SUMMARY:Great Harwood Showground
DESCRIPTION:
URL:https://nwbb-lancs.org/event/great-harwood-showground/
LOCATION:Great Harwood Showground\, Whalley Road\, Great Harwood\, BB6 7TD\, United Kingdom
CATEGORIES:Collection and Awareness Day,Show
END:VEVENT
BEGIN:VEVENT
DTSTART;TZID=Europe/London:20260906T100000
DTEND;TZID=Europe/London:20260906T160000
DTSTAMP:20260421T064817
CREATED:20260205T183722Z
LAST-MODIFIED:20260205T183757Z
UID:3496-1788688800-1788710400@nwbb-lancs.org
SUMMARY:Great Harwood Show
DESCRIPTION:
URL:https://nwbb-lancs.org/event/great-harood-show/
LOCATION:Great Harwood Showground\, Whalley Road\, Great Harwood\, BB6 7TD\, United Kingdom
CATEGORIES:Collection and Awareness Day,Show
END:VEVENT
BEGIN:VEVENT
DTSTART;TZID=Europe/London:20260909T080000
DTEND;TZID=Europe/London:20260909T170000
DTSTAMP:20260421T064817
CREATED:20260320T154619Z
LAST-MODIFIED:20260320T154619Z
UID:3646-1788940800-1788973200@nwbb-lancs.org
SUMMARY:westmoorland country show
DESCRIPTION:
URL:https://nwbb-lancs.org/event/westmoorland-country-show/
LOCATION:westmoorland show\, the show field\, crooklands\, la7 7nh\, United Kingdom
CATEGORIES:Collection and Awareness Day
END:VEVENT
BEGIN:VEVENT
DTSTART;TZID=Europe/London:20260910T080000
DTEND;TZID=Europe/London:20260910T170000
DTSTAMP:20260421T064817
CREATED:20260320T154727Z
LAST-MODIFIED:20260320T154920Z
UID:3649-1789027200-1789059600@nwbb-lancs.org
SUMMARY:westmorland country show
DESCRIPTION:
URL:https://nwbb-lancs.org/event/westmorland-country-show/
LOCATION:westmoorland show\, the show field\, crooklands\, la7 7nh\, United Kingdom
CATEGORIES:Collection and Awareness Day
END:VEVENT
BEGIN:VEVENT
DTSTART;TZID=Europe/London:20260916T133000
DTEND;TZID=Europe/London:20260916T153000
DTSTAMP:20260421T064817
CREATED:20260217T184834Z
LAST-MODIFIED:20260217T184834Z
UID:3531-1789565400-1789572600@nwbb-lancs.org
SUMMARY:Chorley football club
DESCRIPTION:
URL:https://nwbb-lancs.org/event/chorley-football-club-2/
LOCATION:s Chorley football club\, Duke street\, chorley\, Pr73du\, United Kingdom
CATEGORIES:Talk
END:VEVENT
BEGIN:VEVENT
DTSTART;TZID=Europe/London:20260919T100000
DTEND;TZID=Europe/London:20260919T160000
DTSTAMP:20260421T064817
CREATED:20260117T140314Z
LAST-MODIFIED:20260117T141140Z
UID:3445-1789812000-1789833600@nwbb-lancs.org
SUMMARY:ASDA FLEETWOOD
DESCRIPTION:CASH COLLECTION
URL:https://nwbb-lancs.org/event/asda-fleetwood-2/
LOCATION:ASDA FLEETWOOD\, COP LANE\, FLEETWOOD\, Select a State or Province:\, FY7 6NU\, United Kingdom
CATEGORIES:Collection and Awareness Day
END:VEVENT
BEGIN:VEVENT
DTSTART;TZID=Europe/London:20260922T190000
DTEND;TZID=Europe/London:20260922T190000
DTSTAMP:20260421T064817
CREATED:20260212T125749Z
LAST-MODIFIED:20260212T131004Z
UID:3515-1790103600-1790103600@nwbb-lancs.org
SUMMARY:AUGHTON WOMEN'S GROUP
DESCRIPTION:TAK
URL:https://nwbb-lancs.org/event/aughton-womens-group/
LOCATION:Aughton Institute\, 42 Town Green Lane\, Aughton\, L39 6SF\, United Kingdom
CATEGORIES:Talk
END:VEVENT
BEGIN:VEVENT
DTSTART;TZID=Europe/London:20260930T140000
DTEND;TZID=Europe/London:20260930T160000
DTSTAMP:20260421T064817
CREATED:20251212T141546Z
LAST-MODIFIED:20251212T141546Z
UID:3377-1790776800-1790784000@nwbb-lancs.org
SUMMARY:MOTHER'S UNION
DESCRIPTION:Talk \n 
URL:https://nwbb-lancs.org/event/mothers-union/
LOCATION:St George’s Church\, Castle Street\, Kendal\, LA9 7AS\, United Kingdom
CATEGORIES:Talk
END:VEVENT
BEGIN:VEVENT
DTSTART;TZID=Europe/London:20261105T140000
DTEND;TZID=Europe/London:20261105T160000
DTSTAMP:20260421T064817
CREATED:20251202T122342Z
LAST-MODIFIED:20251202T123209Z
UID:3344-1793887200-1793894400@nwbb-lancs.org
SUMMARY:NATLAND MOTHERS UNION FAMILY GROUP
DESCRIPTION:TALK
URL:https://nwbb-lancs.org/event/natland-mothers-union-family-group/
LOCATION:VESTRY OF ST MARKS CHURCH\, THE GREEN\, NATLAND\, KENDAL LA9 7AS\, THE GREEN\, NATLAND\, KENDAL\, LA9 7AS
CATEGORIES:Talk
END:VEVENT
BEGIN:VEVENT
DTSTART;TZID=Europe/London:20271014T193000
DTEND;TZID=Europe/London:20271014T203000
DTSTAMP:20260421T064817
CREATED:20260321T184357Z
LAST-MODIFIED:20260321T184357Z
UID:3670-1823542200-1823545800@nwbb-lancs.org
SUMMARY:The Boys Brigade
DESCRIPTION:
URL:https://nwbb-lancs.org/event/the-boys-brigade/
LOCATION:The Boys Brigade\, Carr Lane\, Kirkham\, PR4 3SS\, United Kingdom
CATEGORIES:Talk
END:VEVENT
END:VCALENDAR