BEGIN:VCALENDAR
VERSION:2.0
PRODID:-//North West Blood Bikes - ECPv6.15.18//NONSGML v1.0//EN
CALSCALE:GREGORIAN
METHOD:PUBLISH
X-ORIGINAL-URL:https://nwbb-lancs.org
X-WR-CALDESC:Events for North West Blood Bikes
REFRESH-INTERVAL;VALUE=DURATION:PT1H
X-Robots-Tag:noindex
X-PUBLISHED-TTL:PT1H
BEGIN:VTIMEZONE
TZID:Europe/London
BEGIN:DAYLIGHT
TZOFFSETFROM:+0000
TZOFFSETTO:+0100
TZNAME:BST
DTSTART:20250330T010000
END:DAYLIGHT
BEGIN:STANDARD
TZOFFSETFROM:+0100
TZOFFSETTO:+0000
TZNAME:GMT
DTSTART:20251026T010000
END:STANDARD
BEGIN:DAYLIGHT
TZOFFSETFROM:+0000
TZOFFSETTO:+0100
TZNAME:BST
DTSTART:20260329T010000
END:DAYLIGHT
BEGIN:STANDARD
TZOFFSETFROM:+0100
TZOFFSETTO:+0000
TZNAME:GMT
DTSTART:20261025T010000
END:STANDARD
BEGIN:DAYLIGHT
TZOFFSETFROM:+0000
TZOFFSETTO:+0100
TZNAME:BST
DTSTART:20270328T010000
END:DAYLIGHT
BEGIN:STANDARD
TZOFFSETFROM:+0100
TZOFFSETTO:+0000
TZNAME:GMT
DTSTART:20271031T010000
END:STANDARD
END:VTIMEZONE
BEGIN:VEVENT
DTSTART;TZID=Europe/London:20260411T090000
DTEND;TZID=Europe/London:20260411T130000
DTSTAMP:20260422T005351
CREATED:20260320T152609Z
LAST-MODIFIED:20260320T152609Z
UID:3635-1775898000-1775912400@nwbb-lancs.org
SUMMARY:Coffee Morning
DESCRIPTION:
URL:https://nwbb-lancs.org/event/coffee-morning/
LOCATION:Coffee Morning\, staveley village hall Windermere road\, staveley\, la8 9ly\, United Kingdom
CATEGORIES:Collection and Awareness Day
END:VEVENT
BEGIN:VEVENT
DTSTART;TZID=Europe/London:20260414T140000
DTEND;TZID=Europe/London:20260414T153000
DTSTAMP:20260422T005351
CREATED:20260327T162555Z
LAST-MODIFIED:20260327T162555Z
UID:3681-1776175200-1776180600@nwbb-lancs.org
SUMMARY:The Punchbowl
DESCRIPTION:
URL:https://nwbb-lancs.org/event/the-punchbowl/
LOCATION:The Punchbowl\, Lunt Rd\, Sefton\, L29 7WA\, United Kingdom
CATEGORIES:receive a cheque donation,Talk
END:VEVENT
BEGIN:VEVENT
DTSTART;TZID=Europe/London:20260416T180000
DTEND;TZID=Europe/London:20260416T203000
DTSTAMP:20260422T005351
CREATED:20260405T154305Z
LAST-MODIFIED:20260405T154305Z
UID:3746-1776362400-1776371400@nwbb-lancs.org
SUMMARY:Talk with Beavers and Scouts
DESCRIPTION:
URL:https://nwbb-lancs.org/event/talk-with-beavers-and-scouts/
LOCATION:Talk with Beavers and Scouts\, rice lane primary school\, Liverpoo\, L9 3BU\, United Kingdom
CATEGORIES:Fundraiser
END:VEVENT
BEGIN:VEVENT
DTSTART;TZID=Europe/London:20260420T100000
DTEND;TZID=Europe/London:20260420T130000
DTSTAMP:20260422T005351
CREATED:20260403T065941Z
LAST-MODIFIED:20260403T065941Z
UID:3709-1776679200-1776690000@nwbb-lancs.org
SUMMARY:Fairhaven Methodist Church
DESCRIPTION:
URL:https://nwbb-lancs.org/event/fairhaven-methodist-church/
LOCATION:Fairhaven Methodist Church\, 67 Woodlands Road\, Lytham st annes\, FY8 1BZ\, United Kingdom
CATEGORIES:Collection and Awareness Day
END:VEVENT
BEGIN:VEVENT
DTSTART;TZID=Europe/London:20260420T103000
DTEND;TZID=Europe/London:20260420T120000
DTSTAMP:20260422T005351
CREATED:20260330T170347Z
LAST-MODIFIED:20260330T170347Z
UID:3694-1776681000-1776686400@nwbb-lancs.org
SUMMARY:Scotforth Probus
DESCRIPTION:
URL:https://nwbb-lancs.org/event/scotforth-probus/
LOCATION:Scotforth Probus\, St. Paul's Parish Hall\, Scotforth Road\, Lancaster\, LA1 4ST\, United Kingdom
CATEGORIES:Talk
END:VEVENT
BEGIN:VEVENT
DTSTART;TZID=Europe/London:20260420T140000
DTEND;TZID=Europe/London:20260420T170000
DTSTAMP:20260422T005351
CREATED:20251028T091758Z
LAST-MODIFIED:20251028T091758Z
UID:3146-1776693600-1776704400@nwbb-lancs.org
SUMMARY:Penwortham Community Social
DESCRIPTION:
URL:https://nwbb-lancs.org/event/penwortham-community-social/
LOCATION:Penwortham United Reform Church\, Penwortham United Reform Church\, 73 Liverpool Road\, Preston\, PR1 0QB
CATEGORIES:Talk
END:VEVENT
BEGIN:VEVENT
DTSTART;TZID=Europe/London:20260420T180000
DTEND;TZID=Europe/London:20260420T210000
DTSTAMP:20260422T005351
CREATED:20260405T152303Z
LAST-MODIFIED:20260405T152303Z
UID:3738-1776708000-1776718800@nwbb-lancs.org
SUMMARY:Area 51 cafe
DESCRIPTION:
URL:https://nwbb-lancs.org/event/area-51-cafe/
LOCATION:Area 51\, Soutjport Rd.\, Scarisbrick\, Ormskirk L40 8HF\, Southport Road\, Scarisbrick\, Ormskirk\, L40 8HF\, United Kingdom
CATEGORIES:Collection and Awareness Day
END:VEVENT
BEGIN:VEVENT
DTSTART;TZID=Europe/London:20260421T100000
DTEND;TZID=Europe/London:20260421T120000
DTSTAMP:20260422T005351
CREATED:20260223T154345Z
LAST-MODIFIED:20260223T154345Z
UID:3540-1776765600-1776772800@nwbb-lancs.org
SUMMARY:St.Annes Coffee Morning Club
DESCRIPTION:
URL:https://nwbb-lancs.org/event/st-annes-coffee-morning-club/
LOCATION:St.Annes Tennis Club\, Avondale Road\, st. annes\, FY8 2QH\, United Kingdom
CATEGORIES:Talk
END:VEVENT
BEGIN:VEVENT
DTSTART;TZID=Europe/London:20260424T190000
DTEND;TZID=Europe/London:20260424T223000
DTSTAMP:20260422T005351
CREATED:20260320T153224Z
LAST-MODIFIED:20260320T153224Z
UID:3638-1777057200-1777069800@nwbb-lancs.org
SUMMARY:Race night At Windermere Social Club
DESCRIPTION:
URL:https://nwbb-lancs.org/event/race-night-at-windermere-social-club/
LOCATION:Race night\, WINDERMERE SOCIAL CLUB new road\, Windermere\, la23 2la\, United Kingdom
CATEGORIES:Fundraiser
END:VEVENT
BEGIN:VEVENT
DTSTART;TZID=Europe/London:20260425T093000
DTEND;TZID=Europe/London:20260425T170000
DTSTAMP:20260422T005351
CREATED:20260320T185420Z
LAST-MODIFIED:20260320T185420Z
UID:3651-1777109400-1777136400@nwbb-lancs.org
SUMMARY:Art for All
DESCRIPTION:
URL:https://nwbb-lancs.org/event/art-for-all/
LOCATION:Art  For All\, the bridge portlandwalk\, barr
CATEGORIES:Collection and Awareness Day
END:VEVENT
BEGIN:VEVENT
DTSTART;TZID=Europe/London:20260426T093000
DTEND;TZID=Europe/London:20260426T170000
DTSTAMP:20260422T005351
CREATED:20260320T185537Z
LAST-MODIFIED:20260320T185537Z
UID:3655-1777195800-1777222800@nwbb-lancs.org
SUMMARY:Art for all
DESCRIPTION:
URL:https://nwbb-lancs.org/event/art-for-all-2/
LOCATION:Art  For All\, the bridge portlandwalk\, barr
CATEGORIES:Collection and Awareness Day
END:VEVENT
BEGIN:VEVENT
DTSTART;TZID=Europe/London:20260427T093000
DTEND;TZID=Europe/London:20260427T170000
DTSTAMP:20260422T005351
CREATED:20260320T185702Z
LAST-MODIFIED:20260320T185702Z
UID:3658-1777282200-1777309200@nwbb-lancs.org
SUMMARY:Art for all
DESCRIPTION:
URL:https://nwbb-lancs.org/event/art-for-all-3/
LOCATION:Art  For All\, the bridge portlandwalk\, barr
CATEGORIES:Collection and Awareness Day
END:VEVENT
BEGIN:VEVENT
DTSTART;TZID=Europe/London:20260427T173000
DTEND;TZID=Europe/London:20260427T190000
DTSTAMP:20260422T005351
CREATED:20260330T143759Z
LAST-MODIFIED:20260330T143759Z
UID:3690-1777311000-1777316400@nwbb-lancs.org
SUMMARY:Kendal Beavers & Cubs
DESCRIPTION:
URL:https://nwbb-lancs.org/event/kendal-beavers-cubs/
LOCATION:Kendal Beavers & Cubs\, The Beck Centre\, Heron Hill\, Esthwaite Ave\, Kendal\, The Beck Centre\, Heron Hill\, Esthwaite Ave\, United Kingdom
CATEGORIES:Talk
END:VEVENT
BEGIN:VEVENT
DTSTART;TZID=Europe/London:20260427T180000
DTEND;TZID=Europe/London:20260427T203000
DTSTAMP:20260422T005351
CREATED:20260327T165042Z
LAST-MODIFIED:20260329T062235Z
UID:3684-1777312800-1777321800@nwbb-lancs.org
SUMMARY:Bike Meet
DESCRIPTION:
URL:https://nwbb-lancs.org/event/bike-meet/
LOCATION:bike meet\, 1 kirklands \, barnoldswick masonic hall\, barnoldswick\, bb18 6fj\, United Kingdom
CATEGORIES:Fundraiser
END:VEVENT
BEGIN:VEVENT
DTSTART;TZID=Europe/London:20260428T093000
DTEND;TZID=Europe/London:20260428T170000
DTSTAMP:20260422T005351
CREATED:20260320T185741Z
LAST-MODIFIED:20260320T185741Z
UID:3660-1777368600-1777395600@nwbb-lancs.org
SUMMARY:Art for all
DESCRIPTION:
URL:https://nwbb-lancs.org/event/art-for-all-4/
LOCATION:Art  For All\, the bridge portlandwalk\, barr
CATEGORIES:Collection and Awareness Day
END:VEVENT
BEGIN:VEVENT
DTSTART;TZID=Europe/London:20260429T093000
DTEND;TZID=Europe/London:20260429T170000
DTSTAMP:20260422T005351
CREATED:20260320T185835Z
LAST-MODIFIED:20260320T185835Z
UID:3662-1777455000-1777482000@nwbb-lancs.org
SUMMARY:Art for All
DESCRIPTION:
URL:https://nwbb-lancs.org/event/art-for-all-5/
LOCATION:Art  For All\, the bridge portlandwalk\, barr
CATEGORIES:Collection and Awareness Day
END:VEVENT
BEGIN:VEVENT
DTSTART;TZID=Europe/London:20260430T093000
DTEND;TZID=Europe/London:20260430T170000
DTSTAMP:20260422T005351
CREATED:20260320T190201Z
LAST-MODIFIED:20260320T190201Z
UID:3668-1777541400-1777568400@nwbb-lancs.org
SUMMARY:Art for All
DESCRIPTION:
URL:https://nwbb-lancs.org/event/art-for-all-8/
LOCATION:Art  For All\, the bridge portlandwalk\, barr
CATEGORIES:Collection and Awareness Day
END:VEVENT
BEGIN:VEVENT
DTSTART;TZID=Europe/London:20260501T093000
DTEND;TZID=Europe/London:20260501T170000
DTSTAMP:20260422T005351
CREATED:20260320T185912Z
LAST-MODIFIED:20260320T190031Z
UID:3664-1777627800-1777654800@nwbb-lancs.org
SUMMARY:Art for all
DESCRIPTION:
URL:https://nwbb-lancs.org/event/art-for-all-6/
LOCATION:Art  For All\, the bridge portlandwalk\, barr
CATEGORIES:Collection and Awareness Day
END:VEVENT
BEGIN:VEVENT
DTSTART;TZID=Europe/London:20260502T093000
DTEND;TZID=Europe/London:20260502T170000
DTSTAMP:20260422T005351
CREATED:20260320T190117Z
LAST-MODIFIED:20260320T190117Z
UID:3666-1777714200-1777741200@nwbb-lancs.org
SUMMARY:Art for all
DESCRIPTION:
URL:https://nwbb-lancs.org/event/art-for-all-7/
LOCATION:Art  For All\, the bridge portlandwalk\, barr
CATEGORIES:Collection and Awareness Day
END:VEVENT
BEGIN:VEVENT
DTSTART;TZID=Europe/London:20260504T120000
DTEND;TZID=Europe/London:20260504T170000
DTSTAMP:20260422T005351
CREATED:20260405T153113Z
LAST-MODIFIED:20260405T153113Z
UID:3740-1777896000-1777914000@nwbb-lancs.org
SUMMARY:999 Emergency Services Fun Day
DESCRIPTION:
URL:https://nwbb-lancs.org/event/999-emergency-services-fun-day/
LOCATION:999 Emergency Services Fun Day\, toby Carvery\, County Road\,\, Ormskirk\, L39 1NN\, United Kingdom
CATEGORIES:Collection and Awareness Day
END:VEVENT
BEGIN:VEVENT
DTSTART;TZID=Europe/London:20260508T100000
DTEND;TZID=Europe/London:20260508T150000
DTSTAMP:20260422T005351
CREATED:20260403T070256Z
LAST-MODIFIED:20260403T070256Z
UID:3712-1778234400-1778252400@nwbb-lancs.org
SUMMARY:Asda Blackpool
DESCRIPTION:
URL:https://nwbb-lancs.org/event/asda-blackpool-3/
LOCATION:Asda Blackpool\, Asda Blackpool\, Cherry Tree Road\, Blackpool\, FY4 4QH
CATEGORIES:Collection and Awareness Day
END:VEVENT
BEGIN:VEVENT
DTSTART;TZID=Europe/London:20260510T090000
DTEND;TZID=Europe/London:20260510T160000
DTSTAMP:20260422T005351
CREATED:20260405T153618Z
LAST-MODIFIED:20260405T153618Z
UID:3743-1778403600-1778428800@nwbb-lancs.org
SUMMARY:May Day Fun Day at Hesketh Park
DESCRIPTION:
URL:https://nwbb-lancs.org/event/may-day-fun-day-at-hesketh-park/
LOCATION:May Day Fun Day at Hesketh Park\, 17 Park Crescent\, Brentwood Court\, Southport\, PR9 9JN.\, United Kingdom
CATEGORIES:Collection and Awareness Day
END:VEVENT
BEGIN:VEVENT
DTSTART;VALUE=DATE:20260516
DTEND;VALUE=DATE:20260517
DTSTAMP:20260422T005351
CREATED:20260415T135815Z
LAST-MODIFIED:20260415T135815Z
UID:3760-1778889600-1778975999@nwbb-lancs.org
SUMMARY:Charity Day
DESCRIPTION:
URL:https://nwbb-lancs.org/event/charity-day/
LOCATION:Charity Day\, panther park chisnall lane\, coppull\, pr7 5ea\, United Kingdom
CATEGORIES:Collection and Awareness Day
END:VEVENT
BEGIN:VEVENT
DTSTART;TZID=Europe/London:20260519T180000
DTEND;TZID=Europe/London:20260519T190000
DTSTAMP:20260422T005351
CREATED:20260415T174628Z
LAST-MODIFIED:20260415T174628Z
UID:3763-1779213600-1779217200@nwbb-lancs.org
SUMMARY:Freemasons Giving Night
DESCRIPTION:
URL:https://nwbb-lancs.org/event/freemasons-giving-night/
LOCATION:Freemasons Giving Night\, Park Suite Cleveleys\, West Dr\,\, Thornton-Cleveleys\, FY5 2BL\, United Kingdom
CATEGORIES:Talk
END:VEVENT
BEGIN:VEVENT
DTSTART;TZID=Europe/London:20260525T090000
DTEND;TZID=Europe/London:20260525T150000
DTSTAMP:20260422T005351
CREATED:20260327T161842Z
LAST-MODIFIED:20260327T161842Z
UID:3678-1779699600-1779721200@nwbb-lancs.org
SUMMARY:Great Harwood Show
DESCRIPTION:
URL:https://nwbb-lancs.org/event/great-harwood-show/
LOCATION:Great Harwood Showground\, Whalley Road\, Great Harwood\, BB6 7TD\, United Kingdom
CATEGORIES:Collection and Awareness Day
END:VEVENT
BEGIN:VEVENT
DTSTART;TZID=Europe/London:20260611T200000
DTEND;TZID=Europe/London:20260611T213000
DTSTAMP:20260422T005351
CREATED:20260402T185216Z
LAST-MODIFIED:20260402T185216Z
UID:3703-1781208000-1781213400@nwbb-lancs.org
SUMMARY:St Helens Group Advanced Motorists
DESCRIPTION:
URL:https://nwbb-lancs.org/event/st-helens-group-advanced-motorists/
LOCATION:SHGAM AGM\, Ibis Hotel\, Haydock\, Liverpool\, WA11 0GR\, United Kingdom
CATEGORIES:Talk
END:VEVENT
BEGIN:VEVENT
DTSTART;TZID=Europe/London:20260613T100000
DTEND;TZID=Europe/London:20260613T160000
DTSTAMP:20260422T005351
CREATED:20260117T140134Z
LAST-MODIFIED:20260117T140134Z
UID:3442-1781344800-1781366400@nwbb-lancs.org
SUMMARY:ASDA FLEETWOOD
DESCRIPTION:CASH COLLECTION
URL:https://nwbb-lancs.org/event/asda-fleetwood/
LOCATION:ASDA FLEETWOOD\, COP LANE\, FLEETWOOD\, Select a State or Province:\, FY7 6NU\, United Kingdom
CATEGORIES:Collection and Awareness Day
END:VEVENT
BEGIN:VEVENT
DTSTART;TZID=Europe/London:20260614T100000
DTEND;TZID=Europe/London:20260614T150000
DTSTAMP:20260422T005351
CREATED:20260403T163703Z
LAST-MODIFIED:20260403T163703Z
UID:3735-1781431200-1781449200@nwbb-lancs.org
SUMMARY:Garstang Fire station Open day
DESCRIPTION:
URL:https://nwbb-lancs.org/event/garstang-fire-station-open-day/
LOCATION:Garstang Fire station Open day\, Garstang Fire station\, Garstang\, United Kingdom
CATEGORIES:Collection and Awareness Day
END:VEVENT
BEGIN:VEVENT
DTSTART;TZID=Europe/London:20260616T183000
DTEND;TZID=Europe/London:20260616T203000
DTSTAMP:20260422T005351
CREATED:20251212T142240Z
LAST-MODIFIED:20251212T142240Z
UID:3382-1781634600-1781641800@nwbb-lancs.org
SUMMARY:OVERTON & DISTRICT WI
DESCRIPTION:Talk
URL:https://nwbb-lancs.org/event/overton-district-wi/
LOCATION:Overton Memorial Hall\, Middleton Road\, Overton\, Morecambe\, LA3 3HB\, United Kingdom
CATEGORIES:Talk
END:VEVENT
BEGIN:VEVENT
DTSTART;TZID=Europe/London:20260616T190000
DTEND;TZID=Europe/London:20260616T200000
DTSTAMP:20260422T005351
CREATED:20251028T091921Z
LAST-MODIFIED:20251028T091921Z
UID:3149-1781636400-1781640000@nwbb-lancs.org
SUMMARY:Rusland with Bouth WI
DESCRIPTION:
URL:https://nwbb-lancs.org/event/rusland-with-bouth-wi/
LOCATION:Finsthwaite & Lakeside Village Hall\, Finsthwaite & Lakeside Village Hall\, Ulverston\, LA12 8BJ
CATEGORIES:Talk
END:VEVENT
END:VCALENDAR