BEGIN:VCALENDAR
VERSION:2.0
PRODID:-//North West Blood Bikes - ECPv6.15.18//NONSGML v1.0//EN
CALSCALE:GREGORIAN
METHOD:PUBLISH
X-ORIGINAL-URL:https://nwbb-lancs.org
X-WR-CALDESC:Events for North West Blood Bikes
REFRESH-INTERVAL;VALUE=DURATION:PT1H
X-Robots-Tag:noindex
X-PUBLISHED-TTL:PT1H
BEGIN:VTIMEZONE
TZID:Europe/London
BEGIN:DAYLIGHT
TZOFFSETFROM:+0000
TZOFFSETTO:+0100
TZNAME:BST
DTSTART:20250330T010000
END:DAYLIGHT
BEGIN:STANDARD
TZOFFSETFROM:+0100
TZOFFSETTO:+0000
TZNAME:GMT
DTSTART:20251026T010000
END:STANDARD
BEGIN:DAYLIGHT
TZOFFSETFROM:+0000
TZOFFSETTO:+0100
TZNAME:BST
DTSTART:20260329T010000
END:DAYLIGHT
BEGIN:STANDARD
TZOFFSETFROM:+0100
TZOFFSETTO:+0000
TZNAME:GMT
DTSTART:20261025T010000
END:STANDARD
BEGIN:DAYLIGHT
TZOFFSETFROM:+0000
TZOFFSETTO:+0100
TZNAME:BST
DTSTART:20270328T010000
END:DAYLIGHT
BEGIN:STANDARD
TZOFFSETFROM:+0100
TZOFFSETTO:+0000
TZNAME:GMT
DTSTART:20271031T010000
END:STANDARD
END:VTIMEZONE
BEGIN:VEVENT
DTSTART;TZID=Europe/London:20260910T080000
DTEND;TZID=Europe/London:20260910T170000
DTSTAMP:20260421T003055
CREATED:20260320T154727Z
LAST-MODIFIED:20260320T154920Z
UID:3649-1789027200-1789059600@nwbb-lancs.org
SUMMARY:westmorland country show
DESCRIPTION:
URL:https://nwbb-lancs.org/event/westmorland-country-show/
LOCATION:westmoorland show\, the show field\, crooklands\, la7 7nh\, United Kingdom
CATEGORIES:Collection and Awareness Day
END:VEVENT
BEGIN:VEVENT
DTSTART;TZID=Europe/London:20260919T100000
DTEND;TZID=Europe/London:20260919T160000
DTSTAMP:20260421T003055
CREATED:20260117T140314Z
LAST-MODIFIED:20260117T141140Z
UID:3445-1789812000-1789833600@nwbb-lancs.org
SUMMARY:ASDA FLEETWOOD
DESCRIPTION:CASH COLLECTION
URL:https://nwbb-lancs.org/event/asda-fleetwood-2/
LOCATION:ASDA FLEETWOOD\, COP LANE\, FLEETWOOD\, Select a State or Province:\, FY7 6NU\, United Kingdom
CATEGORIES:Collection and Awareness Day
END:VEVENT
END:VCALENDAR