BEGIN:VCALENDAR
VERSION:2.0
PRODID:-//North West Blood Bikes - ECPv6.15.18//NONSGML v1.0//EN
CALSCALE:GREGORIAN
METHOD:PUBLISH
X-ORIGINAL-URL:https://nwbb-lancs.org
X-WR-CALDESC:Events for North West Blood Bikes
REFRESH-INTERVAL;VALUE=DURATION:PT1H
X-Robots-Tag:noindex
X-PUBLISHED-TTL:PT1H
BEGIN:VTIMEZONE
TZID:Europe/London
BEGIN:DAYLIGHT
TZOFFSETFROM:+0000
TZOFFSETTO:+0100
TZNAME:BST
DTSTART:20250330T010000
END:DAYLIGHT
BEGIN:STANDARD
TZOFFSETFROM:+0100
TZOFFSETTO:+0000
TZNAME:GMT
DTSTART:20251026T010000
END:STANDARD
BEGIN:DAYLIGHT
TZOFFSETFROM:+0000
TZOFFSETTO:+0100
TZNAME:BST
DTSTART:20260329T010000
END:DAYLIGHT
BEGIN:STANDARD
TZOFFSETFROM:+0100
TZOFFSETTO:+0000
TZNAME:GMT
DTSTART:20261025T010000
END:STANDARD
BEGIN:DAYLIGHT
TZOFFSETFROM:+0000
TZOFFSETTO:+0100
TZNAME:BST
DTSTART:20270328T010000
END:DAYLIGHT
BEGIN:STANDARD
TZOFFSETFROM:+0100
TZOFFSETTO:+0000
TZNAME:GMT
DTSTART:20271031T010000
END:STANDARD
END:VTIMEZONE
BEGIN:VEVENT
DTSTART;TZID=Europe/London:20260808T080000
DTEND;TZID=Europe/London:20260808T170000
DTSTAMP:20260416T153723
CREATED:20260320T153903Z
LAST-MODIFIED:20260320T153903Z
UID:3641-1786176000-1786208400@nwbb-lancs.org
SUMMARY:Festival of the sea
DESCRIPTION:
URL:https://nwbb-lancs.org/event/festival-of-the-sea/
LOCATION:festival of the sea\, quayside by morrisons supermarket\, barrow in furness\, la14 2hf\, United Kingdom
CATEGORIES:Collection and Awareness Day
END:VEVENT
BEGIN:VEVENT
DTSTART;TZID=Europe/London:20260809T090000
DTEND;TZID=Europe/London:20260809T160000
DTSTAMP:20260416T153723
CREATED:20260330T133540Z
LAST-MODIFIED:20260330T133540Z
UID:3687-1786266000-1786291200@nwbb-lancs.org
SUMMARY:Trawden show
DESCRIPTION:
URL:https://nwbb-lancs.org/event/trawden-show/
LOCATION:Trawden show\, Trawden show ground\, Trawden\, BB8 8RR\, United Kingdom
CATEGORIES:Collection and Awareness Day
END:VEVENT
BEGIN:VEVENT
DTSTART;TZID=Europe/London:20260809T090000
DTEND;TZID=Europe/London:20260809T170000
DTSTAMP:20260416T153723
CREATED:20260320T154016Z
LAST-MODIFIED:20260320T154016Z
UID:3644-1786266000-1786294800@nwbb-lancs.org
SUMMARY:festival of the sea
DESCRIPTION:
URL:https://nwbb-lancs.org/event/festival-of-the-sea-2/
LOCATION:festival of the sea\, quayside by morrisons supermarket\, barrow in furness\, la14 2hf\, United Kingdom
CATEGORIES:Collection and Awareness Day
END:VEVENT
END:VCALENDAR