BEGIN:VCALENDAR
VERSION:2.0
PRODID:-//North West Blood Bikes - ECPv6.15.18//NONSGML v1.0//EN
CALSCALE:GREGORIAN
METHOD:PUBLISH
X-ORIGINAL-URL:https://nwbb-lancs.org
X-WR-CALDESC:Events for North West Blood Bikes
REFRESH-INTERVAL;VALUE=DURATION:PT1H
X-Robots-Tag:noindex
X-PUBLISHED-TTL:PT1H
BEGIN:VTIMEZONE
TZID:Europe/London
BEGIN:DAYLIGHT
TZOFFSETFROM:+0000
TZOFFSETTO:+0100
TZNAME:BST
DTSTART:20240331T010000
END:DAYLIGHT
BEGIN:STANDARD
TZOFFSETFROM:+0100
TZOFFSETTO:+0000
TZNAME:GMT
DTSTART:20241027T010000
END:STANDARD
BEGIN:DAYLIGHT
TZOFFSETFROM:+0000
TZOFFSETTO:+0100
TZNAME:BST
DTSTART:20250330T010000
END:DAYLIGHT
BEGIN:STANDARD
TZOFFSETFROM:+0100
TZOFFSETTO:+0000
TZNAME:GMT
DTSTART:20251026T010000
END:STANDARD
BEGIN:DAYLIGHT
TZOFFSETFROM:+0000
TZOFFSETTO:+0100
TZNAME:BST
DTSTART:20260329T010000
END:DAYLIGHT
BEGIN:STANDARD
TZOFFSETFROM:+0100
TZOFFSETTO:+0000
TZNAME:GMT
DTSTART:20261025T010000
END:STANDARD
END:VTIMEZONE
BEGIN:VEVENT
DTSTART;TZID=Europe/London:20251206T100000
DTEND;TZID=Europe/London:20251206T130000
DTSTAMP:20260416T153658
CREATED:20251028T085606Z
LAST-MODIFIED:20251028T085606Z
UID:3110-1765015200-1765026000@nwbb-lancs.org
SUMMARY:Asda Blackpool
DESCRIPTION:
URL:https://nwbb-lancs.org/event/asda-blackpool-2/
LOCATION:Asda Blackpool\, Asda Blackpool\, Cherry Tree Road\, Blackpool\, FY4 4QH
CATEGORIES:Collection and Awareness Day
END:VEVENT
BEGIN:VEVENT
DTSTART;TZID=Europe/London:20251219T100000
DTEND;TZID=Europe/London:20251219T170000
DTSTAMP:20260416T153658
CREATED:20251028T085907Z
LAST-MODIFIED:20251028T085907Z
UID:3117-1766138400-1766163600@nwbb-lancs.org
SUMMARY:Asda Kendal
DESCRIPTION:
URL:https://nwbb-lancs.org/event/asda-kendal-2/
LOCATION:Asda Kendal\, Burton Road\, Kendal\, LA9 7JA
CATEGORIES:Collection and Awareness Day
END:VEVENT
END:VCALENDAR