BEGIN:VCALENDAR
VERSION:2.0
PRODID:-//North West Blood Bikes - ECPv6.15.18//NONSGML v1.0//EN
CALSCALE:GREGORIAN
METHOD:PUBLISH
X-ORIGINAL-URL:https://nwbb-lancs.org
X-WR-CALDESC:Events for North West Blood Bikes
REFRESH-INTERVAL;VALUE=DURATION:PT1H
X-Robots-Tag:noindex
X-PUBLISHED-TTL:PT1H
BEGIN:VTIMEZONE
TZID:Europe/London
BEGIN:DAYLIGHT
TZOFFSETFROM:+0000
TZOFFSETTO:+0100
TZNAME:BST
DTSTART:20240331T010000
END:DAYLIGHT
BEGIN:STANDARD
TZOFFSETFROM:+0100
TZOFFSETTO:+0000
TZNAME:GMT
DTSTART:20241027T010000
END:STANDARD
BEGIN:DAYLIGHT
TZOFFSETFROM:+0000
TZOFFSETTO:+0100
TZNAME:BST
DTSTART:20250330T010000
END:DAYLIGHT
BEGIN:STANDARD
TZOFFSETFROM:+0100
TZOFFSETTO:+0000
TZNAME:GMT
DTSTART:20251026T010000
END:STANDARD
BEGIN:DAYLIGHT
TZOFFSETFROM:+0000
TZOFFSETTO:+0100
TZNAME:BST
DTSTART:20260329T010000
END:DAYLIGHT
BEGIN:STANDARD
TZOFFSETFROM:+0100
TZOFFSETTO:+0000
TZNAME:GMT
DTSTART:20261025T010000
END:STANDARD
END:VTIMEZONE
BEGIN:VEVENT
DTSTART;TZID=Europe/London:20251129T100000
DTEND;TZID=Europe/London:20251129T160000
DTSTAMP:20260416T153645
CREATED:20251101T164843Z
LAST-MODIFIED:20251104T131342Z
UID:3231-1764410400-1764432000@nwbb-lancs.org
SUMMARY:Tesco Southport
DESCRIPTION:
URL:https://nwbb-lancs.org/event/tesco-southport/
LOCATION:Town Lane\, Kew\, Southport\, PR8 5JH\, Tesco Extra\, Town Lane\, Kew\, Southport\, PR8 5JH
CATEGORIES:Collection and Awareness Day
END:VEVENT
BEGIN:VEVENT
DTSTART;TZID=Europe/London:20251129T100000
DTEND;TZID=Europe/London:20251129T170000
DTSTAMP:20260416T153645
CREATED:20251028T085242Z
LAST-MODIFIED:20251028T085242Z
UID:3108-1764410400-1764435600@nwbb-lancs.org
SUMMARY:Sainsburys Bamber Bridge
DESCRIPTION:
URL:https://nwbb-lancs.org/event/sainsburys-bamber-bridge-3/
LOCATION:Cuerden Way\, Cuerden Way\, Preston\, PR5 6BJ
CATEGORIES:Collection and Awareness Day
END:VEVENT
END:VCALENDAR