BEGIN:VCALENDAR
VERSION:2.0
PRODID:-//North West Blood Bikes - ECPv6.15.18//NONSGML v1.0//EN
CALSCALE:GREGORIAN
METHOD:PUBLISH
X-ORIGINAL-URL:https://nwbb-lancs.org
X-WR-CALDESC:Events for North West Blood Bikes
REFRESH-INTERVAL;VALUE=DURATION:PT1H
X-Robots-Tag:noindex
X-PUBLISHED-TTL:PT1H
BEGIN:VTIMEZONE
TZID:Europe/London
BEGIN:DAYLIGHT
TZOFFSETFROM:+0000
TZOFFSETTO:+0100
TZNAME:BST
DTSTART:20240331T010000
END:DAYLIGHT
BEGIN:STANDARD
TZOFFSETFROM:+0100
TZOFFSETTO:+0000
TZNAME:GMT
DTSTART:20241027T010000
END:STANDARD
BEGIN:DAYLIGHT
TZOFFSETFROM:+0000
TZOFFSETTO:+0100
TZNAME:BST
DTSTART:20250330T010000
END:DAYLIGHT
BEGIN:STANDARD
TZOFFSETFROM:+0100
TZOFFSETTO:+0000
TZNAME:GMT
DTSTART:20251026T010000
END:STANDARD
BEGIN:DAYLIGHT
TZOFFSETFROM:+0000
TZOFFSETTO:+0100
TZNAME:BST
DTSTART:20260329T010000
END:DAYLIGHT
BEGIN:STANDARD
TZOFFSETFROM:+0100
TZOFFSETTO:+0000
TZNAME:GMT
DTSTART:20261025T010000
END:STANDARD
END:VTIMEZONE
BEGIN:VEVENT
DTSTART;TZID=Europe/London:20250412T123000
DTEND;TZID=Europe/London:20250412T140000
DTSTAMP:20260421T115923
CREATED:20250410T074050Z
LAST-MODIFIED:20250410T074050Z
UID:2986-1744461000-1744466400@nwbb-lancs.org
SUMMARY:Morrisons Southport
DESCRIPTION:
URL:https://nwbb-lancs.org/event/morrisons-southport/
LOCATION:Winter Gardens\, Winter Gardens\, Southport\, PR8 1ND\, United Kingdom
CATEGORIES:Collection and Awareness Day
END:VEVENT
END:VCALENDAR