BEGIN:VCALENDAR
VERSION:2.0
PRODID:-//North West Blood Bikes - ECPv6.15.18//NONSGML v1.0//EN
CALSCALE:GREGORIAN
METHOD:PUBLISH
X-WR-CALNAME:North West Blood Bikes
X-ORIGINAL-URL:https://nwbb-lancs.org
X-WR-CALDESC:Events for North West Blood Bikes
REFRESH-INTERVAL;VALUE=DURATION:PT1H
X-Robots-Tag:noindex
X-PUBLISHED-TTL:PT1H
BEGIN:VTIMEZONE
TZID:Europe/London
BEGIN:DAYLIGHT
TZOFFSETFROM:+0000
TZOFFSETTO:+0100
TZNAME:BST
DTSTART:20240331T010000
END:DAYLIGHT
BEGIN:STANDARD
TZOFFSETFROM:+0100
TZOFFSETTO:+0000
TZNAME:GMT
DTSTART:20241027T010000
END:STANDARD
BEGIN:DAYLIGHT
TZOFFSETFROM:+0000
TZOFFSETTO:+0100
TZNAME:BST
DTSTART:20250330T010000
END:DAYLIGHT
BEGIN:STANDARD
TZOFFSETFROM:+0100
TZOFFSETTO:+0000
TZNAME:GMT
DTSTART:20251026T010000
END:STANDARD
BEGIN:DAYLIGHT
TZOFFSETFROM:+0000
TZOFFSETTO:+0100
TZNAME:BST
DTSTART:20260329T010000
END:DAYLIGHT
BEGIN:STANDARD
TZOFFSETFROM:+0100
TZOFFSETTO:+0000
TZNAME:GMT
DTSTART:20261025T010000
END:STANDARD
END:VTIMEZONE
BEGIN:VEVENT
DTSTART;TZID=Europe/London:20250208T103000
DTEND;TZID=Europe/London:20250208T170000
DTSTAMP:20260421T150515
CREATED:20250128T103058Z
LAST-MODIFIED:20250128T103058Z
UID:2847-1739010600-1739034000@nwbb-lancs.org
SUMMARY:Sainsbury's Bamber Bridge
DESCRIPTION:
URL:https://nwbb-lancs.org/event/sainsburys-bamber-bridge/
LOCATION:Cuerden Way\, Cuerden Way\, Preston\, PR5 6BJ
CATEGORIES:Collection and Awareness Day
END:VEVENT
BEGIN:VEVENT
DTSTART;TZID=Europe/London:20250215T093000
DTEND;TZID=Europe/London:20250215T123000
DTSTAMP:20260421T150515
CREATED:20250128T105043Z
LAST-MODIFIED:20250128T105043Z
UID:2859-1739611800-1739622600@nwbb-lancs.org
SUMMARY:Asda Blackpool
DESCRIPTION:
URL:https://nwbb-lancs.org/event/asda-blackpool/
LOCATION:Cherry Tree Road\, Cherry Tree Road\, Blackpool\, FY4 4QH
CATEGORIES:Collection and Awareness Day
END:VEVENT
END:VCALENDAR